BEGIN:VCALENDAR
VERSION:2.0
PRODID:-//Furrstein 2025//NONSGML v1.0//EN
CALSCALE:GREGORIAN
BEGIN:VEVENT
UID:evt66cde4374bb64@furrstein-2025
DTSTAMP:20260420T072059Z
DTSTART:20250903T150000Z
DTEND:20250903T151500Z
SUMMARY:Otevření krčmy U Vysmátého Kance
DESCRIPTION:Přijďte se do krčmy popít a pobavit se! Nabízíme nejen pivo a Kofolu. 
LOCATION:Zámek a tvrz Jindřichovice, Maštal u Tvrze
BEGIN:VALARM
ACTION:DISPLAY
DESCRIPTION:Otevření krčmy U Vysmátého Kance
TRIGGER:-P0DT0H15M0S
END:VALARM
END:VEVENT
BEGIN:VEVENT
UID:evt66cde3b4ca12a@furrstein-2025
DTSTAMP:20260420T072059Z
DTSTART:20250903T150000Z
DTEND:20250903T180000Z
SUMMARY:Registrace, balíček o den dříve
DESCRIPTION:Registrace, předání badge, úhrady nedoplatků, dárky pro Sponzory, doprodej triček.
Později možno na vyžádání.
LOCATION:Zámek a tvrz Jindřichovice, Maštal u tvrze, zahrádka
BEGIN:VALARM
ACTION:DISPLAY
DESCRIPTION:Registrace, balíček o den dříve
TRIGGER:-P0DT0H15M0S
END:VALARM
END:VEVENT
BEGIN:VEVENT
UID:evt68ae22f68d252@furrstein-2025
DTSTAMP:20260420T072059Z
DTSTART:20250903T190000Z
DTEND:20250903T203000Z
SUMMARY:Karaoke
DESCRIPTION:Zpívejme!
LOCATION:Zámek a tvrz Jindřichovice, Zámecká společenská místnost
BEGIN:VALARM
ACTION:DISPLAY
DESCRIPTION:Karaoke
TRIGGER:-P0DT0H15M0S
END:VALARM
END:VEVENT
BEGIN:VEVENT
UID:evt68ae23336d0ac@furrstein-2025
DTSTAMP:20260420T072059Z
DTSTART:20250903T210000Z
DTEND:20250903T211500Z
SUMMARY:Uzavření krčmy U Vysmátého Kance
DESCRIPTION:
LOCATION:Zámek a tvrz Jindřichovice, Maštal u Tvrze
BEGIN:VALARM
ACTION:DISPLAY
DESCRIPTION:Uzavření krčmy U Vysmátého Kance
TRIGGER:-P0DT0H15M0S
END:VALARM
END:VEVENT
BEGIN:VEVENT
UID:evt66cde50aa1404@furrstein-2025
DTSTAMP:20260420T072059Z
DTSTART:20250904T060000Z
DTEND:20250904T080000Z
SUMMARY:Snídaně, pouze balíček o den dříve se snídaní
DESCRIPTION:
LOCATION:Zámek a tvrz Jindřichovice, Zámecký sál
BEGIN:VALARM
ACTION:DISPLAY
DESCRIPTION:Snídaně, pouze balíček o den dříve se snídaní
TRIGGER:-P0DT0H15M0S
END:VALARM
END:VEVENT
BEGIN:VEVENT
UID:evt66cde53ddbf8a@furrstein-2025
DTSTAMP:20260420T072059Z
DTSTART:20250904T083000Z
DTEND:20250904T090000Z
SUMMARY:Otevření krčmy U Vysmátého Kance
DESCRIPTION:Přijďte se do krčmy popít a pobavit se! Nabízíme nejen pivo a Kofolu.
LOCATION:Zámek a tvrz Jindřichovice, Maštal u Tvrze
BEGIN:VALARM
ACTION:DISPLAY
DESCRIPTION:Otevření krčmy U Vysmátého Kance
TRIGGER:-P0DT0H15M0S
END:VALARM
END:VEVENT
BEGIN:VEVENT
UID:evt66cde6b15da4f@furrstein-2025
DTSTAMP:20260420T072059Z
DTSTART:20250904T113000Z
DTEND:20250904T130000Z
SUMMARY:Animovaný film: Asterix a Vikingové
DESCRIPTION:Zvuk CZ
LOCATION:Zámek a tvrz Jindřichovice, Stodola
BEGIN:VALARM
ACTION:DISPLAY
DESCRIPTION:Animovaný film: Asterix a Vikingové
TRIGGER:-P0DT0H15M0S
END:VALARM
END:VEVENT
BEGIN:VEVENT
UID:evt66cde5aa82cbd@furrstein-2025
DTSTAMP:20260420T072059Z
DTSTART:20250904T130000Z
DTEND:20250904T173000Z
SUMMARY:Registrace
DESCRIPTION:Registrace, předání badge, úhrady nedoplatků, dárky pro Sponzory, doprodej triček. 
Později možno na vyžádání.
LOCATION:Zámek a tvrz Jindřichovice, Maštal u tvrze, zahrádka
BEGIN:VALARM
ACTION:DISPLAY
DESCRIPTION:Registrace
TRIGGER:-P0DT0H15M0S
END:VALARM
END:VEVENT
BEGIN:VEVENT
UID:evt68ae266717a86@furrstein-2025
DTSTAMP:20260420T072059Z
DTSTART:20250904T130000Z
DTEND:20250904T133000Z
SUMMARY:Otevření Římské Taverny
DESCRIPTION:Přijďte se občerstvit ve stylu pravých Římanů!
LOCATION:Zámek a tvrz Jindřichovice, Zámecká společenská místnost
BEGIN:VALARM
ACTION:DISPLAY
DESCRIPTION:Otevření Římské Taverny
TRIGGER:-P0DT0H15M0S
END:VALARM
END:VEVENT
BEGIN:VEVENT
UID:evt66cde6375f671@furrstein-2025
DTSTAMP:20260420T072059Z
DTSTART:20250904T160000Z
DTEND:20250904T170000Z
SUMMARY:Večeře
DESCRIPTION:Jídlo
LOCATION:Zámek a tvrz Jindřichovice, Maštal u Tvrze
BEGIN:VALARM
ACTION:DISPLAY
DESCRIPTION:Večeře
TRIGGER:-P0DT0H15M0S
END:VALARM
END:VEVENT
BEGIN:VEVENT
UID:evt66cde65ad660c@furrstein-2025
DTSTAMP:20260420T072059Z
DTSTART:20250904T173000Z
DTEND:20250904T180000Z
SUMMARY:Slavnostní zahájení
DESCRIPTION:Tentokrát jistě začneme načas, u Toutatise!
LOCATION:Zámek a tvrz Jindřichovice, Maštal u Tvrze
BEGIN:VALARM
ACTION:DISPLAY
DESCRIPTION:Slavnostní zahájení
TRIGGER:-P0DT0H15M0S
END:VALARM
END:VEVENT
BEGIN:VEVENT
UID:evt68ae25c330c0f@furrstein-2025
DTSTAMP:20260420T072059Z
DTSTART:20250904T181500Z
DTEND:20250904T200000Z
SUMMARY:Film Asterix a Obelix: Mise Kleopatra
DESCRIPTION:CZ dabing
LOCATION:Zámek a tvrz Jindřichovice, Stodola
BEGIN:VALARM
ACTION:DISPLAY
DESCRIPTION:Film Asterix a Obelix: Mise Kleopatra
TRIGGER:-P0DT0H15M0S
END:VALARM
END:VEVENT
BEGIN:VEVENT
UID:evt66cde70c1866b@furrstein-2025
DTSTAMP:20260420T072059Z
DTSTART:20250904T200000Z
DTEND:20250904T230000Z
SUMMARY:Táborový oheň
DESCRIPTION:Poslední zhasne.
LOCATION:Zámek a tvrz Jindřichovice, Zámecká zahrada
BEGIN:VALARM
ACTION:DISPLAY
DESCRIPTION:Táborový oheň
TRIGGER:-P0DT0H15M0S
END:VALARM
END:VEVENT
BEGIN:VEVENT
UID:evt66cde5787032a@furrstein-2025
DTSTAMP:20260420T072059Z
DTSTART:20250904T213000Z
DTEND:20250904T220000Z
SUMMARY:Uzavření krčmy U Vysmátého Kance
DESCRIPTION:
LOCATION:Zámek a tvrz Jindřichovice, Maštal u Tvrze
BEGIN:VALARM
ACTION:DISPLAY
DESCRIPTION:Uzavření krčmy U Vysmátého Kance
TRIGGER:-P0DT0H15M0S
END:VALARM
END:VEVENT
BEGIN:VEVENT
UID:evt68af5bfdc5a11@furrstein-2025
DTSTAMP:20260420T072059Z
DTSTART:20250904T230000Z
DTEND:20250904T233000Z
SUMMARY:Uzavření Římské Taverny
DESCRIPTION:
LOCATION:Zámek a tvrz Jindřichovice, Zámecká společenská místnost
BEGIN:VALARM
ACTION:DISPLAY
DESCRIPTION:Uzavření Římské Taverny
TRIGGER:-P0DT0H15M0S
END:VALARM
END:VEVENT
BEGIN:VEVENT
UID:evt66cde782351fb@furrstein-2025
DTSTAMP:20260420T072059Z
DTSTART:20250905T060000Z
DTEND:20250905T080000Z
SUMMARY:Snídaně
DESCRIPTION:Ranní jídlo
LOCATION:Zámek a tvrz Jindřichovice, Zámecký sál
BEGIN:VALARM
ACTION:DISPLAY
DESCRIPTION:Snídaně
TRIGGER:-P0DT0H15M0S
END:VALARM
END:VEVENT
BEGIN:VEVENT
UID:evt66cde7da59715@furrstein-2025
DTSTAMP:20260420T072059Z
DTSTART:20250905T080000Z
DTEND:20250905T083000Z
SUMMARY:Otevření krčmy U Vysmátého Kance
DESCRIPTION:
LOCATION:Zámek a tvrz Jindřichovice, Maštal u Tvrze
BEGIN:VALARM
ACTION:DISPLAY
DESCRIPTION:Otevření krčmy U Vysmátého Kance
TRIGGER:-P0DT0H15M0S
END:VALARM
END:VEVENT
BEGIN:VEVENT
UID:evt68ae277ccf35e@furrstein-2025
DTSTAMP:20260420T072059Z
DTSTART:20250905T080000Z
DTEND:20250905T083000Z
SUMMARY:Otevření Římské Taverny
DESCRIPTION:
LOCATION:Zámek a tvrz Jindřichovice, Zámecká společenská místnost
BEGIN:VALARM
ACTION:DISPLAY
DESCRIPTION:Otevření Římské Taverny
TRIGGER:-P0DT0H15M0S
END:VALARM
END:VEVENT
BEGIN:VEVENT
UID:evt66cde826059c8@furrstein-2025
DTSTAMP:20260420T072059Z
DTSTART:20250905T083000Z
DTEND:20250905T100000Z
SUMMARY:Animovaný film: Asterix a překvapení pro Césara
DESCRIPTION:CZ dabing
LOCATION:Zámek a tvrz Jindřichovice, Stodola
BEGIN:VALARM
ACTION:DISPLAY
DESCRIPTION:Animovaný film: Asterix a překvapení pro Césara
TRIGGER:-P0DT0H15M0S
END:VALARM
END:VEVENT
BEGIN:VEVENT
UID:evt66cde859c53fb@furrstein-2025
DTSTAMP:20260420T072059Z
DTSTART:20250905T100000Z
DTEND:20250905T110000Z
SUMMARY:Oběd
DESCRIPTION:Jídlo
LOCATION:Zámek a tvrz Jindřichovice, Maštal u Tvrze
BEGIN:VALARM
ACTION:DISPLAY
DESCRIPTION:Oběd
TRIGGER:-P0DT0H15M0S
END:VALARM
END:VEVENT
BEGIN:VEVENT
UID:evt66cdeb6a0116e@furrstein-2025
DTSTAMP:20260420T072059Z
DTSTART:20250905T130000Z
DTEND:20250905T143000Z
SUMMARY:Galské trable
DESCRIPTION:Mlsný jazyk a kouzelný lektvar — to je recept na chaos. Vesničané se teď musí vydat na výpravu za vzácnými ingrediencemi a přinést je dřív než bude pozdě!
LOCATION:Zámek a tvrz Jindřichovice, Stodola
BEGIN:VALARM
ACTION:DISPLAY
DESCRIPTION:Galské trable
TRIGGER:-P0DT0H15M0S
END:VALARM
END:VEVENT
BEGIN:VEVENT
UID:evt66cdec03461fa@furrstein-2025
DTSTAMP:20260420T072059Z
DTSTART:20250905T150000Z
DTEND:20250905T160000Z
SUMMARY:Rytířem snadno a rychle
DESCRIPTION:Naši udatní rytíři naučí galy, jak se stát rytířem snadno a rychle.
LOCATION:Zámek a tvrz Jindřichovice, Stodola
BEGIN:VALARM
ACTION:DISPLAY
DESCRIPTION:Rytířem snadno a rychle
TRIGGER:-P0DT0H15M0S
END:VALARM
END:VEVENT
BEGIN:VEVENT
UID:evt66cde90d46621@furrstein-2025
DTSTAMP:20260420T072059Z
DTSTART:20250905T160000Z
DTEND:20250905T170000Z
SUMMARY:Večeře
DESCRIPTION:Večerní jídlo
LOCATION:Zámek a tvrz Jindřichovice, Maštal u Tvrze
BEGIN:VALARM
ACTION:DISPLAY
DESCRIPTION:Večeře
TRIGGER:-P0DT0H15M0S
END:VALARM
END:VEVENT
BEGIN:VEVENT
UID:evt66cde9287178d@furrstein-2025
DTSTAMP:20260420T072059Z
DTSTART:20250905T180000Z
DTEND:20250905T190000Z
SUMMARY:Dům, kde se zatmívá rozum
DESCRIPTION:Získej propustku A38 - vzácnou a mocnou – jejímu držiteli umožňuje volný pohyb po celém římském území.
LOCATION:Zámek a tvrz Jindřichovice, Stodola
BEGIN:VALARM
ACTION:DISPLAY
DESCRIPTION:Dům, kde se zatmívá rozum
TRIGGER:-P0DT0H15M0S
END:VALARM
END:VEVENT
BEGIN:VEVENT
UID:evt68ae2a9aa1d40@furrstein-2025
DTSTAMP:20260420T072059Z
DTSTART:20250905T201500Z
DTEND:20250905T220000Z
SUMMARY:Film Asterix a Olympijské Hry
DESCRIPTION:CZ dabing
LOCATION:Zámek a tvrz Jindřichovice, Stodola
BEGIN:VALARM
ACTION:DISPLAY
DESCRIPTION:Film Asterix a Olympijské Hry
TRIGGER:-P0DT0H15M0S
END:VALARM
END:VEVENT
BEGIN:VEVENT
UID:evt66cde80ccdb20@furrstein-2025
DTSTAMP:20260420T072059Z
DTSTART:20250905T213000Z
DTEND:20250905T220000Z
SUMMARY:Uzavření krčmy U Vysmátého Kance
DESCRIPTION:
LOCATION:Zámek a tvrz Jindřichovice, Maštal u Tvrze
BEGIN:VALARM
ACTION:DISPLAY
DESCRIPTION:Uzavření krčmy U Vysmátého Kance
TRIGGER:-P0DT0H15M0S
END:VALARM
END:VEVENT
BEGIN:VEVENT
UID:evt68af5c4318cb0@furrstein-2025
DTSTAMP:20260420T072059Z
DTSTART:20250905T230000Z
DTEND:20250905T233000Z
SUMMARY:Uzavření Římské Taverny
DESCRIPTION:
LOCATION:Zámek a tvrz Jindřichovice, Zámecká společenská místnost
BEGIN:VALARM
ACTION:DISPLAY
DESCRIPTION:Uzavření Římské Taverny
TRIGGER:-P0DT0H15M0S
END:VALARM
END:VEVENT
BEGIN:VEVENT
UID:evt66cde9f24a512@furrstein-2025
DTSTAMP:20260420T072059Z
DTSTART:20250906T060000Z
DTEND:20250906T080000Z
SUMMARY:Snídaně
DESCRIPTION:Ranní jídlo
LOCATION:Zámek a tvrz Jindřichovice, Zámecký sál
BEGIN:VALARM
ACTION:DISPLAY
DESCRIPTION:Snídaně
TRIGGER:-P0DT0H15M0S
END:VALARM
END:VEVENT
BEGIN:VEVENT
UID:evt66cdea46eb37f@furrstein-2025
DTSTAMP:20260420T072059Z
DTSTART:20250906T080000Z
DTEND:20250906T083000Z
SUMMARY:Otevření krčmy U Vysmátého Kance
DESCRIPTION:
LOCATION:Zámek a tvrz Jindřichovice, Maštal u Tvrze
BEGIN:VALARM
ACTION:DISPLAY
DESCRIPTION:Otevření krčmy U Vysmátého Kance
TRIGGER:-P0DT0H15M0S
END:VALARM
END:VEVENT
BEGIN:VEVENT
UID:evt66cdeaa8e0b8f@furrstein-2025
DTSTAMP:20260420T072059Z
DTSTART:20250906T080000Z
DTEND:20250906T083000Z
SUMMARY:Otevření Římské Taverny
DESCRIPTION:
LOCATION:Zámek a tvrz Jindřichovice, Zámecká společenská místnost
BEGIN:VALARM
ACTION:DISPLAY
DESCRIPTION:Otevření Římské Taverny
TRIGGER:-P0DT0H15M0S
END:VALARM
END:VEVENT
BEGIN:VEVENT
UID:evt68aecc87107bc@furrstein-2025
DTSTAMP:20260420T072059Z
DTSTART:20250906T083000Z
DTEND:20250906T100000Z
SUMMARY:Animovaný film: Asterix v Británii
DESCRIPTION:CZ dabing
LOCATION:Zámek a tvrz Jindřichovice, Stodola
BEGIN:VALARM
ACTION:DISPLAY
DESCRIPTION:Animovaný film: Asterix v Británii
TRIGGER:-P0DT0H15M0S
END:VALARM
END:VEVENT
BEGIN:VEVENT
UID:evt66cdeaed56fea@furrstein-2025
DTSTAMP:20260420T072059Z
DTSTART:20250906T100000Z
DTEND:20250906T110000Z
SUMMARY:Oběd
DESCRIPTION:Polední jídlo
LOCATION:Zámek a tvrz Jindřichovice, Maštal u Tvrze
BEGIN:VALARM
ACTION:DISPLAY
DESCRIPTION:Oběd
TRIGGER:-P0DT0H15M0S
END:VALARM
END:VEVENT
BEGIN:VEVENT
UID:evt66cdeb09dae1b@furrstein-2025
DTSTAMP:20260420T072059Z
DTSTART:20250906T100000Z
DTEND:20250906T110000Z
SUMMARY:Degustační menu
DESCRIPTION:Okuste stravu galů i římanů najednou!
LOCATION:Zámek a tvrz Jindřichovice, Tvrz, společenská místnost
BEGIN:VALARM
ACTION:DISPLAY
DESCRIPTION:Degustační menu
TRIGGER:-P0DT0H15M0S
END:VALARM
END:VEVENT
BEGIN:VEVENT
UID:evt66cde87c24375@furrstein-2025
DTSTAMP:20260420T072059Z
DTSTART:20250906T123000Z
DTEND:20250906T130000Z
SUMMARY:Slavnostní úvod do her + Oficiální focení
DESCRIPTION:César pronese několik slov k zahájení Césarových her!
Poté zůstaňte na místě, dojde ke zvěčnění osazenstva letošního Furrsteinu na oficiální rytinu!
LOCATION:Zámek a tvrz Jindřichovice, Zámecká zahrada
BEGIN:VALARM
ACTION:DISPLAY
DESCRIPTION:Slavnostní úvod do her + Oficiální focení
TRIGGER:-P0DT0H15M0S
END:VALARM
END:VEVENT
BEGIN:VEVENT
UID:evt66cde8c350e3b@furrstein-2025
DTSTAMP:20260420T072059Z
DTSTART:20250906T130000Z
DTEND:20250906T153000Z
SUMMARY:Césarovy hry
DESCRIPTION:Zámecké hry o výjimečné ceny!
LOCATION:Zámek a tvrz Jindřichovice, Zámecká zahrada
BEGIN:VALARM
ACTION:DISPLAY
DESCRIPTION:Césarovy hry
TRIGGER:-P0DT0H15M0S
END:VALARM
END:VEVENT
BEGIN:VEVENT
UID:evt66cdec55398be@furrstein-2025
DTSTAMP:20260420T072059Z
DTSTART:20250906T160000Z
DTEND:20250906T170000Z
SUMMARY:Večeře
DESCRIPTION:Jídelní večer
LOCATION:Zámek a tvrz Jindřichovice, Maštal u Tvrze
BEGIN:VALARM
ACTION:DISPLAY
DESCRIPTION:Večeře
TRIGGER:-P0DT0H15M0S
END:VALARM
END:VEVENT
BEGIN:VEVENT
UID:evt66cdece3849aa@furrstein-2025
DTSTAMP:20260420T072059Z
DTSTART:20250906T173000Z
DTEND:20250906T181500Z
SUMMARY:Slavnostní ukončení, předání výher
DESCRIPTION:Veliký César pronese pár slov závěrem conu.
LOCATION:Zámek a tvrz Jindřichovice, Maštal u Tvrze
BEGIN:VALARM
ACTION:DISPLAY
DESCRIPTION:Slavnostní ukončení, předání výher
TRIGGER:-P0DT0H15M0S
END:VALARM
END:VEVENT
BEGIN:VEVENT
UID:evt66cded3d9182b@furrstein-2025
DTSTAMP:20260420T072059Z
DTSTART:20250906T183000Z
DTEND:20250906T220000Z
SUMMARY:Taneční párty
DESCRIPTION:Jak lépe zakončit poslední den conu než pořádnou galskou taneční párty!

20:30 - 21:00 Taneční show s Césarem - Hity ze slunné Itálie
21:00 - 21:45 DJ Nori
21:45 - 22:45 DJ Gino
22:45 - 23:45 DJ Taiku
LOCATION:Zámek a tvrz Jindřichovice, Stodola
BEGIN:VALARM
ACTION:DISPLAY
DESCRIPTION:Taneční párty
TRIGGER:-P0DT0H15M0S
END:VALARM
END:VEVENT
BEGIN:VEVENT
UID:evt66cdea58da4a2@furrstein-2025
DTSTAMP:20260420T072059Z
DTSTART:20250906T213000Z
DTEND:20250906T220000Z
SUMMARY:Uzavření krčmy U Vysmátého Kance
DESCRIPTION:
LOCATION:Zámek a tvrz Jindřichovice, Maštal u Tvrze
BEGIN:VALARM
ACTION:DISPLAY
DESCRIPTION:Uzavření krčmy U Vysmátého Kance
TRIGGER:-P0DT0H15M0S
END:VALARM
END:VEVENT
BEGIN:VEVENT
UID:evt68af5c55e1bdf@furrstein-2025
DTSTAMP:20260420T072059Z
DTSTART:20250906T230000Z
DTEND:20250906T233000Z
SUMMARY:Uzavření Římské Taverny
DESCRIPTION:
LOCATION:Zámek a tvrz Jindřichovice, Zámecká společenská místnost
BEGIN:VALARM
ACTION:DISPLAY
DESCRIPTION:Uzavření Římské Taverny
TRIGGER:-P0DT0H15M0S
END:VALARM
END:VEVENT
BEGIN:VEVENT
UID:evt66cded80d2046@furrstein-2025
DTSTAMP:20260420T072059Z
DTSTART:20250907T060000Z
DTEND:20250907T080000Z
SUMMARY:Snídaně
DESCRIPTION:
LOCATION:Zámek a tvrz Jindřichovice, Zámecký sál
BEGIN:VALARM
ACTION:DISPLAY
DESCRIPTION:Snídaně
TRIGGER:-P0DT0H15M0S
END:VALARM
END:VEVENT
BEGIN:VEVENT
UID:evt66cdedc2d1e9a@furrstein-2025
DTSTAMP:20260420T072059Z
DTSTART:20250907T080000Z
DTEND:20250907T083000Z
SUMMARY:Otevření krčmy U Vysmátého Kance
DESCRIPTION:
LOCATION:Zámek a tvrz Jindřichovice, Maštal u Tvrze
BEGIN:VALARM
ACTION:DISPLAY
DESCRIPTION:Otevření krčmy U Vysmátého Kance
TRIGGER:-P0DT0H15M0S
END:VALARM
END:VEVENT
BEGIN:VEVENT
UID:evt66cded99e0563@furrstein-2025
DTSTAMP:20260420T072059Z
DTSTART:20250907T080000Z
DTEND:20250907T090000Z
SUMMARY:Vyklizení Headless Lounge
DESCRIPTION:Vyklizení Headless Lounge
LOCATION:Zámek a tvrz Jindřichovice, Zámecká zahrada
BEGIN:VALARM
ACTION:DISPLAY
DESCRIPTION:Vyklizení Headless Lounge
TRIGGER:-P0DT0H15M0S
END:VALARM
END:VEVENT
BEGIN:VEVENT
UID:evt68aecedd6afcf@furrstein-2025
DTSTAMP:20260420T072059Z
DTSTART:20250907T080000Z
DTEND:20250907T083000Z
SUMMARY:Otevření Římské Taverny
DESCRIPTION:
LOCATION:Zámek a tvrz Jindřichovice, Zámecká společenská místnost
BEGIN:VALARM
ACTION:DISPLAY
DESCRIPTION:Otevření Římské Taverny
TRIGGER:-P0DT0H15M0S
END:VALARM
END:VEVENT
BEGIN:VEVENT
UID:evt66cdee315319f@furrstein-2025
DTSTAMP:20260420T072059Z
DTSTART:20250907T083000Z
DTEND:20250907T100000Z
SUMMARY:Placení útraty v krčmě U Vysmátého Kance
DESCRIPTION:Přijďte zaplatit, co jste propili! Pouze v hotovosti.
LOCATION:Zámek a tvrz Jindřichovice, Maštal u Tvrze
BEGIN:VALARM
ACTION:DISPLAY
DESCRIPTION:Placení útraty v krčmě U Vysmátého Kance
TRIGGER:-P0DT0H15M0S
END:VALARM
END:VEVENT
BEGIN:VEVENT
UID:evt68aed03791c9c@furrstein-2025
DTSTAMP:20260420T072059Z
DTSTART:20250907T093000Z
DTEND:20250907T100000Z
SUMMARY:Uzavření Římské Taverny
DESCRIPTION:
LOCATION:Zámek a tvrz Jindřichovice, Zámecká společenská místnost
BEGIN:VALARM
ACTION:DISPLAY
DESCRIPTION:Uzavření Římské Taverny
TRIGGER:-P0DT0H15M0S
END:VALARM
END:VEVENT
BEGIN:VEVENT
UID:evt66cdee67e4ff2@furrstein-2025
DTSTAMP:20260420T072059Z
DTSTART:20250907T100000Z
DTEND:20250907T110000Z
SUMMARY:Oběd
DESCRIPTION:Poslední jídlo
LOCATION:Zámek a tvrz Jindřichovice, Maštal u Tvrze
BEGIN:VALARM
ACTION:DISPLAY
DESCRIPTION:Oběd
TRIGGER:-P0DT0H15M0S
END:VALARM
END:VEVENT
BEGIN:VEVENT
UID:evt66cdf654651fa@furrstein-2025
DTSTAMP:20260420T072059Z
DTSTART:20250907T100000Z
DTEND:20250907T103000Z
SUMMARY:Vyklizení pokojů
DESCRIPTION:Pokoje na zámku i tvrzi vykliďte do 12:00. Klíče nechte v zámcích dveří.
LOCATION:Zámek a tvrz Jindřichovice, Tvrz, společenská místnost
BEGIN:VALARM
ACTION:DISPLAY
DESCRIPTION:Vyklizení pokojů
TRIGGER:-P0DT0H15M0S
END:VALARM
END:VEVENT
BEGIN:VEVENT
UID:evt66cdedd60d060@furrstein-2025
DTSTAMP:20260420T072059Z
DTSTART:20250907T113000Z
DTEND:20250907T120000Z
SUMMARY:Uzavření krčmy U Vysmátého Kance
DESCRIPTION:Poslední drink na cestu!
LOCATION:Zámek a tvrz Jindřichovice, Maštal u Tvrze
BEGIN:VALARM
ACTION:DISPLAY
DESCRIPTION:Uzavření krčmy U Vysmátého Kance
TRIGGER:-P0DT0H15M0S
END:VALARM
END:VEVENT
BEGIN:VEVENT
UID:evt66cdee86e131e@furrstein-2025
DTSTAMP:20260420T072059Z
DTSTART:20250907T120000Z
DTEND:20250907T123000Z
SUMMARY:Konec Furrstein 2025
DESCRIPTION:Uvidíme se příště. 
LOCATION:Zámek a tvrz Jindřichovice, Maštal u tvrze, zahrádka
BEGIN:VALARM
ACTION:DISPLAY
DESCRIPTION:Konec Furrstein 2025
TRIGGER:-P0DT0H15M0S
END:VALARM
END:VEVENT
END:VCALENDAR
